BEGIN:VCALENDAR
VERSION:2.0
PRODID:icalendar-ruby
CALSCALE:GREGORIAN
METHOD:PUBLISH
BEGIN:VEVENT
DTSTAMP:20260426T024124Z
UID:196-1638020@unitybaptist.ca
DTSTART:20261011T160000Z
DTEND:20261011T173000Z
CLASS:PUBLIC
CREATED:20260425T174253
DESCRIPTION:Sunday morning Worship Services are offered in person. For mor
 e information\, please get in touch with the church office at info@unityba
 ptist.ca
LAST-MODIFIED:20260425T174253
LOCATION:Red Deer Dream Centre
SUMMARY:Worship Service - In-Person
URL;VALUE=URI:https://www.unitybaptist.ca/events/worship-service-in-person/
 2026-10-11
END:VEVENT
END:VCALENDAR
